BEGIN:VCALENDAR
VERSION:2.0
PRODID:-//Plone.org//NONSGML plone.app.event//EN
X-WR-TIMEZONE:Europe/Madrid
BEGIN:VEVENT
SUMMARY:Taller demostració de neules artesanes
DTSTART;TZID=Europe/Madrid;VALUE=DATE-TIME:20131220T100000
DTEND;TZID=Europe/Madrid;VALUE=DATE-TIME:20131220T110000
DTSTAMP;VALUE=DATE-TIME:20260422T042859Z
UID:a831f200b4354b15857b567301ebb0d4
CREATED;VALUE=DATE-TIME:20131220T000000Z
LOCATION:Mercat Municipal
ORGANIZER:Pastisseria Marfil
URL:https://arenysdemar.cat/document.php?id=27201
END:VEVENT
END:VCALENDAR