BEGIN:VCALENDAR
VERSION:2.0
PRODID:-//Plone.org//NONSGML plone.app.event//EN
X-WR-TIMEZONE:Europe/Madrid
BEGIN:VEVENT
SUMMARY:Pingpong
DTSTART;TZID=Europe/Madrid;VALUE=DATE-TIME:20140201T210000
DTEND;TZID=Europe/Madrid;VALUE=DATE-TIME:20140201T220000
DTSTAMP;VALUE=DATE-TIME:20260422T144908Z
UID:1e1ba6606c8269d4c5db24da22e92f34
CREATED;VALUE=DATE-TIME:20140201T000000Z
CATEGORIES:Música
LOCATION:Teatre Principal - C. Església, 45-47
ORGANIZER:S.C.L'Esperança i Regidoria de Cultura
COMMENT:Preu: 10 anticipada per Internet i 12 a taquilla una hora abans
DESCRIPTION:Andreu Rifé amb músiques de Polseres Vermelles
URL:https://arenysdemar.cat/document.php?id=27215
END:VEVENT
END:VCALENDAR