BEGIN:VCALENDAR
VERSION:2.0
PRODID:-//Plone.org//NONSGML plone.app.event//EN
X-WR-TIMEZONE:Europe/Madrid
BEGIN:VEVENT
SUMMARY:Els Pastorets
DTSTART;TZID=Europe/Madrid;VALUE=DATE-TIME:20140101T190000
DTEND;TZID=Europe/Madrid;VALUE=DATE-TIME:20140101T200000
DTSTAMP;VALUE=DATE-TIME:20260422T113549Z
UID:08cd26017623124022e53079c33bbb28
CREATED;VALUE=DATE-TIME:20140101T000000Z
CATEGORIES:Infantils,Música,Teatre
LOCATION:Teatre Principal - C. Església, 45-47
ORGANIZER:Teatre Principal, G.A.C.X i Regidoria de Cultura
COMMENT:Preu: 7 anticipada per Internet i 9 a taquilla una hora abans
DESCRIPTION:Produccions del Principal i del Grup Artístic Carles Xena
URL:https://arenysdemar.cat/document.php?id=27217
END:VEVENT
END:VCALENDAR