BEGIN:VCALENDAR
VERSION:2.0
PRODID:-//Plone.org//NONSGML plone.app.event//EN
X-WR-TIMEZONE:Europe/Madrid
BEGIN:VEVENT
SUMMARY:Fira del Col·leccionisme
DTSTART;TZID=Europe/Madrid;VALUE=DATE-TIME:20140119T090000
DTEND;TZID=Europe/Madrid;VALUE=DATE-TIME:20140119T100000
DTSTAMP;VALUE=DATE-TIME:20260421T124752Z
UID:92f6a4d901dc50b1359b02b5b98689ad
CREATED;VALUE=DATE-TIME:20140119T000000Z
CATEGORIES:Mostra
LOCATION:Davant del C.C. Calisay
ORGANIZER:Associació Col·leccionisme LLebeig
COMMENT:Durada: de 9 del matí a 2 del migdia
URL:https://arenysdemar.cat/document.php?id=27264
END:VEVENT
END:VCALENDAR