BEGIN:VCALENDAR
VERSION:2.0
PRODID:-//Plone.org//NONSGML plone.app.event//EN
X-WR-TIMEZONE:Europe/Madrid
BEGIN:VEVENT
SUMMARY:Ruta guiada: Entre turons, una vila
DTSTART;TZID=Europe/Madrid;VALUE=DATE-TIME:20140119T110000
DTEND;TZID=Europe/Madrid;VALUE=DATE-TIME:20140119T120000
DTSTAMP;VALUE=DATE-TIME:20260421T122256Z
UID:f7b7408e03c280a4c68cea9ebb6a139f
CREATED;VALUE=DATE-TIME:20140119T000000Z
CATEGORIES:Cursos
LOCATION:Plaça de l'Església - Plaça de l'Església
ORGANIZER:Ajuntament d'Arenys de Mar
COMMENT:Preu: Gratuïta. Cal fer inscripció prèvia al telèfon: 93 795 70 39 o a turisme@arenysdemar.cat
DESCRIPTION:Repassarem la història, els costums i les tradicions d'Arenys de Mar i els seus indrets més significatius.
URL:https://arenysdemar.cat/document.php?id=27280
END:VEVENT
END:VCALENDAR