BEGIN:VCALENDAR
VERSION:2.0
PRODID:-//Plone.org//NONSGML plone.app.event//EN
X-WR-TIMEZONE:Europe/Madrid
BEGIN:VEVENT
SUMMARY:Visita de la deixalleria mòbil
DTSTART;TZID=Europe/Madrid;VALUE=DATE-TIME:20140920T090000
DTEND;TZID=Europe/Madrid;VALUE=DATE-TIME:20140920T100000
DTSTAMP;VALUE=DATE-TIME:20260424T144134Z
UID:821893d589e15f343ac49c7903716105
CREATED;VALUE=DATE-TIME:20140920T000000Z
LOCATION:Davant Pl. Mare Paula
ORGANIZER:Àrea de Medi Ambient
URL:https://arenysdemar.cat/document.php?id=27293
END:VEVENT
END:VCALENDAR