BEGIN:VCALENDAR
VERSION:2.0
PRODID:-//Plone.org//NONSGML plone.app.event//EN
X-WR-TIMEZONE:Europe/Madrid
BEGIN:VEVENT
SUMMARY:Visita de la deixalleria mòbil
DTSTART;TZID=Europe/Madrid;VALUE=DATE-TIME:20141129T090000
DTEND;TZID=Europe/Madrid;VALUE=DATE-TIME:20141129T100000
DTSTAMP;VALUE=DATE-TIME:20260421T034647Z
UID:b2f36f4902fffd7feb3ee440e1ef6a6e
CREATED;VALUE=DATE-TIME:20141129T000000Z
LOCATION:Plaça de l'Església - Plaça de l'Església
ORGANIZER:Àrea de Medi Ambient
URL:https://arenysdemar.cat/document.php?id=27297
END:VEVENT
END:VCALENDAR