BEGIN:VCALENDAR
VERSION:2.0
PRODID:-//Plone.org//NONSGML plone.app.event//EN
X-WR-TIMEZONE:Europe/Madrid
BEGIN:VEVENT
SUMMARY:Hora del conte: El Rei Carnestoltes i la Vella Quaresma
DTSTART;TZID=Europe/Madrid;VALUE=DATE-TIME:20140227T180000
DTEND;TZID=Europe/Madrid;VALUE=DATE-TIME:20140227T190000
DTSTAMP;VALUE=DATE-TIME:20260420T220805Z
UID:006155416a1d4971e415b674c58c3957
CREATED;VALUE=DATE-TIME:20140227T000000Z
CATEGORIES:Infantils
LOCATION:C.C.Calisay
ORGANIZER:Biblioteca - Regidoria de Cultura
DESCRIPTION:a càrrec d'Anna Danés
URL:https://arenysdemar.cat/document.php?id=27363
END:VEVENT
END:VCALENDAR