BEGIN:VCALENDAR
VERSION:2.0
PRODID:-//Plone.org//NONSGML plone.app.event//EN
X-WR-TIMEZONE:Europe/Madrid
BEGIN:VEVENT
SUMMARY:Learning with Books. Advanced: A passage to India, by E.M. Forster
DTSTART;TZID=Europe/Madrid;VALUE=DATE-TIME:20140228T203000
DTEND;TZID=Europe/Madrid;VALUE=DATE-TIME:20140228T213000
DTSTAMP;VALUE=DATE-TIME:20260423T233600Z
UID:05834b26b19458178cd5276fb0b0b0b8
CREATED;VALUE=DATE-TIME:20140228T000000Z
CATEGORIES:Literatura
LOCATION:Sala d'Actes de la Biblioteca - C. Bonaire, 2
ORGANIZER:Biblioteca - Regidoria de Cultura i Sakkara Viatges
DESCRIPTION:a càrrec de Brian Doherty
URL:https://arenysdemar.cat/document.php?id=27365
END:VEVENT
END:VCALENDAR