BEGIN:VCALENDAR
VERSION:2.0
PRODID:-//Plone.org//NONSGML plone.app.event//EN
X-WR-TIMEZONE:Europe/Madrid
BEGIN:VEVENT
SUMMARY:Dijous Gras a la Vocalia de Jubilats
DTSTART;TZID=Europe/Madrid;VALUE=DATE-TIME:20140227T170000
DTEND;TZID=Europe/Madrid;VALUE=DATE-TIME:20140227T180000
DTSTAMP;VALUE=DATE-TIME:20260421T140647Z
UID:e6bbf32bb5a1c0aebd0af42a714b960d
CREATED;VALUE=DATE-TIME:20140227T000000Z
CATEGORIES:Festa
LOCATION:Vocalia de Jubilats (Sant Josep, 5)
ORGANIZER:Vocalia de Jubilats
COMMENT:Preu: 8 &euro; socis i 11 &euro; no socis
DESCRIPTION:Berenar de Dijous Gras i concurs de truites típiques
URL:https://arenysdemar.cat/document.php?id=27368
END:VEVENT
END:VCALENDAR