BEGIN:VCALENDAR
VERSION:2.0
PRODID:-//Plone.org//NONSGML plone.app.event//EN
X-WR-TIMEZONE:Europe/Madrid
BEGIN:VEVENT
SUMMARY:Taller de Maquillatge
DTSTART;TZID=Europe/Madrid;VALUE=DATE-TIME:20140222T170000
DTEND;TZID=Europe/Madrid;VALUE=DATE-TIME:20140222T180000
DTSTAMP;VALUE=DATE-TIME:20260423T071054Z
UID:256e33ce46c1d823191bcf8803a0b324
CREATED;VALUE=DATE-TIME:20140222T000000Z
CATEGORIES:Cursos,Infantils
LOCATION:Espai Jove del C.C.Calisay - Riera del Pare Fita, 31
ORGANIZER:Regidoria d'Infància i Joventut
DESCRIPTION:Maquillatge de carnaval
URL:https://arenysdemar.cat/document.php?id=27370
END:VEVENT
END:VCALENDAR