BEGIN:VCALENDAR
VERSION:2.0
PRODID:-//Plone.org//NONSGML plone.app.event//EN
X-WR-TIMEZONE:Europe/Madrid
BEGIN:VEVENT
SUMMARY:Els Tres Tombs
DTSTART;TZID=Europe/Madrid;VALUE=DATE-TIME:20140216T110000
DTEND;TZID=Europe/Madrid;VALUE=DATE-TIME:20140216T120000
DTSTAMP;VALUE=DATE-TIME:20260421T201120Z
UID:4a0ad9532406ecee60087a6974d3d0ec
CREATED;VALUE=DATE-TIME:20140216T000000Z
CATEGORIES:Festa
LOCATION:Sortida des de Plaça Mare Paula Montalt, Doedes, Passeig de Ronda, lateral de la Riera, Montserrat i Doedes
ORGANIZER:Ajuntament d'Arenys de Mar
DESCRIPTION:Celebració de Sant Antoni Abat, patró dels animals
URL:https://arenysdemar.cat/document.php?id=27372
END:VEVENT
END:VCALENDAR