BEGIN:VCALENDAR
VERSION:2.0
PRODID:-//Plone.org//NONSGML plone.app.event//EN
X-WR-TIMEZONE:Europe/Madrid
BEGIN:VEVENT
SUMMARY:Concert de banda
DTSTART;TZID=Europe/Madrid;VALUE=DATE-TIME:20140304T193000
DTEND;TZID=Europe/Madrid;VALUE=DATE-TIME:20140304T203000
DTSTAMP;VALUE=DATE-TIME:20260420T143929Z
UID:5480c02ac46d1923f014bd05aed7d245
CREATED;VALUE=DATE-TIME:20140304T000000Z
CATEGORIES:Música
LOCATION:Pati del C.C.Calisay - Riera del Pare Fita, 31
ORGANIZER:Ajuntament d'Arenys de Mar i EMA
DESCRIPTION:a càrrec de la Banda de l'Escola de Música Municipal Carles G. Vidiella
URL:https://arenysdemar.cat/document.php?id=27403
END:VEVENT
END:VCALENDAR