BEGIN:VCALENDAR
VERSION:2.0
PRODID:-//Plone.org//NONSGML plone.app.event//EN
X-WR-TIMEZONE:Europe/Madrid
BEGIN:VEVENT
SUMMARY:Inici de la preparació de l'escudella de recapte
DTSTART;TZID=Europe/Madrid;VALUE=DATE-TIME:20140304T100000
DTEND;TZID=Europe/Madrid;VALUE=DATE-TIME:20140304T110000
DTSTAMP;VALUE=DATE-TIME:20260423T182630Z
UID:08c7ad62e3f6954ccac6d4e13b4a5a7b
CREATED;VALUE=DATE-TIME:20140304T000000Z
CATEGORIES:Festa
LOCATION:a la plaça de davant del C.C. Calisay
ORGANIZER:Ajuntament d'Arenys de Mar i l'Agrupament Escolta Flos i Calcat
DESCRIPTION:porta ingredients per tirar a l'olla i fer una bona sopa
URL:https://arenysdemar.cat/document.php?id=27404
END:VEVENT
END:VCALENDAR