BEGIN:VCALENDAR
VERSION:2.0
PRODID:-//Plone.org//NONSGML plone.app.event//EN
X-WR-TIMEZONE:Europe/Madrid
BEGIN:VEVENT
SUMMARY:Ball de tarda
DTSTART;TZID=Europe/Madrid;VALUE=DATE-TIME:20140216T183000
DTEND;TZID=Europe/Madrid;VALUE=DATE-TIME:20140216T193000
DTSTAMP;VALUE=DATE-TIME:20260420T185403Z
UID:65453d7138328f210edcc65d9a0c9d17
CREATED;VALUE=DATE-TIME:20140216T000000Z
CATEGORIES:Música
LOCATION:Ateneu Arenyenc
ORGANIZER:Ateneu Arenyenc
COMMENT:Preu: 2 euros
DESCRIPTION:amb l'actuació de D.M. Ateneu
URL:https://arenysdemar.cat/document.php?id=27411
END:VEVENT
END:VCALENDAR