BEGIN:VCALENDAR
VERSION:2.0
PRODID:-//Plone.org//NONSGML plone.app.event//EN
X-WR-TIMEZONE:Europe/Madrid
BEGIN:VEVENT
SUMMARY:Hora del conte
DTSTART;TZID=Europe/Madrid;VALUE=DATE-TIME:20140206T180000
DTEND;TZID=Europe/Madrid;VALUE=DATE-TIME:20140206T190000
DTSTAMP;VALUE=DATE-TIME:20260424T025828Z
UID:1e6e30d302fd447ed0469a0a1ffc5ee9
CREATED;VALUE=DATE-TIME:20140206T000000Z
CATEGORIES:Infantils
LOCATION:Sala d'Actes de la Biblioteca - C. Bonaire, 2
ORGANIZER:Biblioteca - Regidoria de Cultura
DESCRIPTION:a càrrec de Míriam Farelo del projecte De tu @ tu d&#8217;Arenys.org
URL:https://arenysdemar.cat/document.php?id=27413
END:VEVENT
END:VCALENDAR