BEGIN:VCALENDAR
VERSION:2.0
PRODID:-//Plone.org//NONSGML plone.app.event//EN
X-WR-TIMEZONE:Europe/Madrid
BEGIN:VEVENT
SUMMARY:Hora del conte: El flautista d'Hamelí
DTSTART;TZID=Europe/Madrid;VALUE=DATE-TIME:20140220T180000
DTEND;TZID=Europe/Madrid;VALUE=DATE-TIME:20140220T190000
DTSTAMP;VALUE=DATE-TIME:20260424T061701Z
UID:d13732142c4e66a4cd3b438e02f02d98
CREATED;VALUE=DATE-TIME:20140220T000000Z
CATEGORIES:Infantils
LOCATION:Sala d'Actes de la Biblioteca - C. Bonaire, 2
ORGANIZER:Biblioteca - Regidoria de Cultura
DESCRIPTION:a càrrec de Danilo i Ivana
URL:https://arenysdemar.cat/document.php?id=27414
END:VEVENT
END:VCALENDAR