BEGIN:VCALENDAR
VERSION:2.0
PRODID:-//Plone.org//NONSGML plone.app.event//EN
X-WR-TIMEZONE:Europe/Madrid
BEGIN:VEVENT
SUMMARY:Ball de Carnestoltes i Concurs de Disfresses
DTSTART;TZID=Europe/Madrid;VALUE=DATE-TIME:20140301T223000
DTEND;TZID=Europe/Madrid;VALUE=DATE-TIME:20140301T233000
DTSTAMP;VALUE=DATE-TIME:20260421T085602Z
UID:99d2f568ed2c8b3fdaf40c80029361cb
CREATED;VALUE=DATE-TIME:20140301T000000Z
CATEGORIES:Festa
LOCATION:Ateneu Arenyenc
ORGANIZER:Ateneu Arenyenc
COMMENT:Preu: Soci 5 euros i no soci 7 euros
DESCRIPTION:amb el Duet Ària
URL:https://arenysdemar.cat/document.php?id=27434
END:VEVENT
END:VCALENDAR