BEGIN:VCALENDAR
VERSION:2.0
PRODID:-//Plone.org//NONSGML plone.app.event//EN
X-WR-TIMEZONE:Europe/Madrid
BEGIN:VEVENT
SUMMARY:Taller de ninots
DTSTART;TZID=Europe/Madrid;VALUE=DATE-TIME:20140223T120000
DTEND;TZID=Europe/Madrid;VALUE=DATE-TIME:20140223T130000
DTSTAMP;VALUE=DATE-TIME:20260421T032546Z
UID:ef4db788d64702a3dc7556218005cb15
CREATED;VALUE=DATE-TIME:20140223T000000Z
CATEGORIES:Mostra
LOCATION:Plaça de l'Església - Plaça de l'Església
ORGANIZER:Ajuntament d'Arenys de Mar i Joan de Guineu i família
DESCRIPTION:Vine i fes el ninot!!
URL:https://arenysdemar.cat/document.php?id=27437
END:VEVENT
END:VCALENDAR