BEGIN:VCALENDAR
VERSION:2.0
PRODID:-//Plone.org//NONSGML plone.app.event//EN
X-WR-TIMEZONE:Europe/Madrid
BEGIN:VEVENT
SUMMARY:Dijous gras: truitada popular
DTSTART;TZID=Europe/Madrid;VALUE=DATE-TIME:20140227T190000
DTEND;TZID=Europe/Madrid;VALUE=DATE-TIME:20140227T200000
DTSTAMP;VALUE=DATE-TIME:20260423T134431Z
UID:ff70cfedd92717d760ea414989bc1e11
CREATED;VALUE=DATE-TIME:20140227T000000Z
LOCATION:Pati del C.C.Calisay - Riera del Pare Fita, 31
ORGANIZER:Ajuntament d'Arenys de Mar
COMMENT:Preu: 2&euro; (tiquets limitats per a 100 persones)
DESCRIPTION:Vine a menjar la truita amb nosaltres!!
URL:https://arenysdemar.cat/document.php?id=27446
END:VEVENT
END:VCALENDAR