BEGIN:VCALENDAR
VERSION:2.0
PRODID:-//Plone.org//NONSGML plone.app.event//EN
X-WR-TIMEZONE:Europe/Madrid
BEGIN:VEVENT
SUMMARY:Fira d'artesania
DTSTART;TZID=Europe/Madrid;VALUE=DATE-TIME:20140406T100000
DTEND;TZID=Europe/Madrid;VALUE=DATE-TIME:20140406T110000
DTSTAMP;VALUE=DATE-TIME:20260425T125241Z
UID:6d5c024325c7d756c3124c4899d8f623
CREATED;VALUE=DATE-TIME:20140406T000000Z
CATEGORIES:Mostra
LOCATION:Part baixa de la Riera
ORGANIZER:Associació Col·leccionisme Nou i vell (Crisàlide)
COMMENT:Durada: Fins a les 3 de la tarda
URL:https://arenysdemar.cat/document.php?id=27466
END:VEVENT
END:VCALENDAR