BEGIN:VCALENDAR
VERSION:2.0
PRODID:-//Plone.org//NONSGML plone.app.event//EN
X-WR-TIMEZONE:Europe/Madrid
BEGIN:VEVENT
SUMMARY:Cursos de Ball de Saló
DTSTART;TZID=Europe/Madrid;VALUE=DATE-TIME:20140211T190000
DTEND;TZID=Europe/Madrid;VALUE=DATE-TIME:20140211T200000
DTSTAMP;VALUE=DATE-TIME:20260422T131706Z
UID:80595a9e1db5880564d2c75ec500a809
CREATED;VALUE=DATE-TIME:20140211T000000Z
CATEGORIES:Cursos
LOCATION:Ateneu Arenyenc
ORGANIZER:Ateneu Arenyenc
COMMENT:Preu: 7 euros/dia
Durada: Tots els dimarts
URL:https://arenysdemar.cat/document.php?id=27516
END:VEVENT
END:VCALENDAR