BEGIN:VCALENDAR
VERSION:2.0
PRODID:-//Plone.org//NONSGML plone.app.event//EN
X-WR-TIMEZONE:Europe/Madrid
BEGIN:VEVENT
SUMMARY:Teatre: Boarding Pass
DTSTART;TZID=Europe/Madrid;VALUE=DATE-TIME:20140412T210000
DTEND;TZID=Europe/Madrid;VALUE=DATE-TIME:20140412T220000
DTSTAMP;VALUE=DATE-TIME:20260422T094244Z
UID:dda850503d2b6edc9b93ba28524e4b51
CREATED;VALUE=DATE-TIME:20140412T000000Z
CATEGORIES:Teatre
LOCATION:Teatre Principal - C. Església, 45-47
ORGANIZER:S.C.L'Esperança i Regidoria de Cultura
COMMENT:Preu: 10 anticipada per Internet i 12 una hora abans a la taquilla
Durada: També el diumenge 13 d'abril a les 7 de la tarda
DESCRIPTION:a càrrec d'Eskakejats Teatre
URL:https://arenysdemar.cat/document.php?id=27518
END:VEVENT
END:VCALENDAR