BEGIN:VCALENDAR
VERSION:2.0
PRODID:-//Plone.org//NONSGML plone.app.event//EN
X-WR-TIMEZONE:Europe/Madrid
BEGIN:VEVENT
SUMMARY:Mercat de la il·lusió
DTSTART;TZID=Europe/Madrid;VALUE=DATE-TIME:20140329T090000
DTEND;TZID=Europe/Madrid;VALUE=DATE-TIME:20140329T100000
DTSTAMP;VALUE=DATE-TIME:20260421T054459Z
UID:b27c816e6507e72e93f10ac9ef8be20f
CREATED;VALUE=DATE-TIME:20140329T000000Z
CATEGORIES:Mostra
LOCATION:Sala Polivalent del C.C.Calisay - Riera Pare Fita, 31
ORGANIZER:Associació Arenyenca d'Ajuda contra el Càncer
COMMENT:Durada: També el 30 de març al matí
URL:https://arenysdemar.cat/document.php?id=27525
END:VEVENT
END:VCALENDAR