BEGIN:VCALENDAR
VERSION:2.0
PRODID:-//Plone.org//NONSGML plone.app.event//EN
X-WR-TIMEZONE:Europe/Madrid
BEGIN:VEVENT
SUMMARY:Learning with Books. Advanced. The God of small things, by Arundhati Roy
DTSTART;TZID=Europe/Madrid;VALUE=DATE-TIME:20140328T203000
DTEND;TZID=Europe/Madrid;VALUE=DATE-TIME:20140328T213000
DTSTAMP;VALUE=DATE-TIME:20260420T152754Z
UID:c8f160e139e88d04c38a7af577e5b17a
CREATED;VALUE=DATE-TIME:20140328T000000Z
CATEGORIES:Literatura
LOCATION:Sala d'Actes de la Biblioteca - C. Bonaire, 2
ORGANIZER:Biblioteca - Regidoria de Cultura i Sakkara Viatges
DESCRIPTION:a càrrec de Brian Doherty
URL:https://arenysdemar.cat/document.php?id=27547
END:VEVENT
END:VCALENDAR