BEGIN:VCALENDAR
VERSION:2.0
PRODID:-//Plone.org//NONSGML plone.app.event//EN
X-WR-TIMEZONE:Europe/Madrid
BEGIN:VEVENT
SUMMARY:Ball del dissabte
DTSTART;TZID=Europe/Madrid;VALUE=DATE-TIME:20140308T223000
DTEND;TZID=Europe/Madrid;VALUE=DATE-TIME:20140308T233000
DTSTAMP;VALUE=DATE-TIME:20260423T143037Z
UID:d82725b64c1ae375aa211c6a493b35a7
CREATED;VALUE=DATE-TIME:20140308T000000Z
CATEGORIES:Música
LOCATION:Ateneu Arenyenc
ORGANIZER:Ateneu Arenyenc
COMMENT:Preu: Soci 5&euro; i no soci 7&euro;
DESCRIPTION:a càrrec del Duet Va de Ball
URL:https://arenysdemar.cat/document.php?id=27552
END:VEVENT
END:VCALENDAR