BEGIN:VCALENDAR
VERSION:2.0
PRODID:-//Plone.org//NONSGML plone.app.event//EN
X-WR-TIMEZONE:Europe/Madrid
BEGIN:VEVENT
SUMMARY:Ball de Tarda
DTSTART;TZID=Europe/Madrid;VALUE=DATE-TIME:20140330T183000
DTEND;TZID=Europe/Madrid;VALUE=DATE-TIME:20140330T193000
DTSTAMP;VALUE=DATE-TIME:20260420T152109Z
UID:4e68ade96da6682dbaf62cb81f71d5b0
CREATED;VALUE=DATE-TIME:20140330T000000Z
CATEGORIES:Música
LOCATION:Ateneu Arenyenc
ORGANIZER:Ateneu Arenyenc
COMMENT:Preu: Preu únic: 2&euro;
DESCRIPTION:a càrrec de DM Ateneu
URL:https://arenysdemar.cat/document.php?id=27557
END:VEVENT
END:VCALENDAR