BEGIN:VCALENDAR
VERSION:2.0
PRODID:-//Plone.org//NONSGML plone.app.event//EN
X-WR-TIMEZONE:Europe/Madrid
BEGIN:VEVENT
SUMMARY:Realitats i mites de la Guerra de Successió
DTSTART;TZID=Europe/Madrid;VALUE=DATE-TIME:20140516T190000
DTEND;TZID=Europe/Madrid;VALUE=DATE-TIME:20140516T200000
DTSTAMP;VALUE=DATE-TIME:20260420T234209Z
UID:17d5b320301fd74bd52a0b051d3bed99
CREATED;VALUE=DATE-TIME:20140516T000000Z
CATEGORIES:Cursos
LOCATION:Biblioteca - Bonaire, 2
ORGANIZER:Biblioteca Pare Fidel Fita - Regidoria de Cultura i  Museu d'Arenys de Mar
COMMENT:Preu: 5. Inscripcions a la biblioteca
Durada: També els dies 23 i 30 de maig
DESCRIPTION:El (mal) encaix institucional de la Corona d´Aragó dins la Monarquia Hispànica (segles XVI-XVIII)
URL:https://arenysdemar.cat/document.php?id=27599
END:VEVENT
END:VCALENDAR