BEGIN:VCALENDAR
VERSION:2.0
PRODID:-//Plone.org//NONSGML plone.app.event//EN
X-WR-TIMEZONE:Europe/Madrid
BEGIN:VEVENT
SUMMARY:Visita comentada a l'exposició: Arenys de Mar, 1714. Un poble en peu de guerra
DTSTART;TZID=Europe/Madrid;VALUE=DATE-TIME:20140518T110000
DTEND;TZID=Europe/Madrid;VALUE=DATE-TIME:20140518T120000
DTSTAMP;VALUE=DATE-TIME:20260420T221145Z
UID:07451dff6e2a11c3cc0ed7b014bd4968
CREATED;VALUE=DATE-TIME:20140518T000000Z
CATEGORIES:Exposició
LOCATION:Sala Noble del C.C.Calisay - Riera Pare Fita, 31
ORGANIZER:Museu d'Arenys de Mar - Regidoria de Cultura i Biblioteca Pare Fidel Fita
COMMENT:Preu: Gratuït
Durada: També a les 12 del migdia
DESCRIPTION:Dia Internacional dels Museus
URL:https://arenysdemar.cat/document.php?id=27608
END:VEVENT
END:VCALENDAR