BEGIN:VCALENDAR
VERSION:2.0
PRODID:-//Plone.org//NONSGML plone.app.event//EN
X-WR-TIMEZONE:Europe/Madrid
BEGIN:VEVENT
SUMMARY:Parades de llibres i roses
DTSTART;TZID=Europe/Madrid;VALUE=DATE-TIME:20140423T090000
DTEND;TZID=Europe/Madrid;VALUE=DATE-TIME:20140423T100000
DTSTAMP;VALUE=DATE-TIME:20260423T230109Z
UID:59e1e4f23c863d6b6748b4490f5e00f7
CREATED;VALUE=DATE-TIME:20140423T000000Z
CATEGORIES:Festa
LOCATION:Plaça de l'Església - Plaça de l'Església
ORGANIZER:Entitats locals i Ajuntament d'Arenys de Mar
DESCRIPTION:Celebrem Sant Jordi
URL:https://arenysdemar.cat/document.php?id=27663
END:VEVENT
END:VCALENDAR