BEGIN:VCALENDAR
VERSION:2.0
PRODID:-//Plone.org//NONSGML plone.app.event//EN
X-WR-TIMEZONE:Europe/Madrid
BEGIN:VEVENT
SUMMARY:Fira d'Indians
DTSTART;TZID=Europe/Madrid;VALUE=DATE-TIME:20140524T100000
DTEND;TZID=Europe/Madrid;VALUE=DATE-TIME:20140524T110000
DTSTAMP;VALUE=DATE-TIME:20260424T125728Z
UID:8ad4641002623c26b0c0573420000f35
CREATED;VALUE=DATE-TIME:20140524T000000Z
CATEGORIES:Mostra
LOCATION:Plaça de l'Església - Plaça de l'Església
ORGANIZER:Associació de la Fira del Solstici
COMMENT:Durada: De 10 del matí a 10 de la nit. També el 25 de maig
DESCRIPTION:venda d'artesania i alimentació
URL:https://arenysdemar.cat/document.php?id=27676
END:VEVENT
END:VCALENDAR