BEGIN:VCALENDAR
VERSION:2.0
PRODID:-//Plone.org//NONSGML plone.app.event//EN
X-WR-TIMEZONE:Europe/Madrid
BEGIN:VEVENT
SUMMARY:Ball de tarda
DTSTART;TZID=Europe/Madrid;VALUE=DATE-TIME:20140406T183000
DTEND;TZID=Europe/Madrid;VALUE=DATE-TIME:20140406T193000
DTSTAMP;VALUE=DATE-TIME:20260425T125324Z
UID:11e21a34ff71bea0a1c203a11943b248
CREATED;VALUE=DATE-TIME:20140406T000000Z
CATEGORIES:Música
LOCATION:Ateneu Arenyenc
ORGANIZER:Ateneu Arenyenc
COMMENT:Preu: 2&euro;
DESCRIPTION:amb l'actuació de D.M. Ateneu
URL:https://arenysdemar.cat/document.php?id=27693
END:VEVENT
END:VCALENDAR