BEGIN:VCALENDAR
VERSION:2.0
PRODID:-//Plone.org//NONSGML plone.app.event//EN
X-WR-TIMEZONE:Europe/Madrid
BEGIN:VEVENT
SUMMARY:Ball del dissabte
DTSTART;TZID=Europe/Madrid;VALUE=DATE-TIME:20140405T223000
DTEND;TZID=Europe/Madrid;VALUE=DATE-TIME:20140405T233000
DTSTAMP;VALUE=DATE-TIME:20260422T060835Z
UID:2a7d4dfe1fe63e1c0c3a362c7fed6607
CREATED;VALUE=DATE-TIME:20140405T000000Z
CATEGORIES:Música
LOCATION:Ateneu Arenyenc
ORGANIZER:Ateneu Arenyenc
COMMENT:Preu: Soci 5&euro; i no soci 7&euro;
DESCRIPTION:amb l'actuació de Duet Domino
URL:https://arenysdemar.cat/document.php?id=27694
END:VEVENT
END:VCALENDAR