BEGIN:VCALENDAR
VERSION:2.0
PRODID:-//Plone.org//NONSGML plone.app.event//EN
X-WR-TIMEZONE:Europe/Madrid
BEGIN:VEVENT
SUMMARY:Campionat de ping-pong
DTSTART;TZID=Europe/Madrid;VALUE=DATE-TIME:20140405T170000
DTEND;TZID=Europe/Madrid;VALUE=DATE-TIME:20140405T180000
DTSTAMP;VALUE=DATE-TIME:20260425T143359Z
UID:9179bacfc579f8ba96cceb4fa6f49b07
CREATED;VALUE=DATE-TIME:20140405T000000Z
CATEGORIES:Esports
LOCATION:Espai Jove del C.C.Calisay - Riera del Pare Fita, 31
ORGANIZER:Espai Jove
COMMENT:Preu: Inscripcions prèvies fins al 29 de març
DESCRIPTION:Campionat per parelles
URL:https://arenysdemar.cat/document.php?id=27709
END:VEVENT
END:VCALENDAR