BEGIN:VCALENDAR
VERSION:2.0
PRODID:-//Plone.org//NONSGML plone.app.event//EN
X-WR-TIMEZONE:Europe/Madrid
BEGIN:VEVENT
SUMMARY:Presentació dels treballs de recerca de l'Institut Els Tres Turons
DTSTART;TZID=Europe/Madrid;VALUE=DATE-TIME:20140328T193000
DTEND;TZID=Europe/Madrid;VALUE=DATE-TIME:20140328T203000
DTSTAMP;VALUE=DATE-TIME:20260423T152354Z
UID:64010195df1bed104ebdaec4254ca4b5
CREATED;VALUE=DATE-TIME:20140328T000000Z
CATEGORIES:Conferència
LOCATION:Ateneu Arenyenc
ORGANIZER:Ateneu i IES Els Tres Turons
DESCRIPTION:Reconstruccions i recreacions arquitectòtiques
URL:https://arenysdemar.cat/document.php?id=27719
END:VEVENT
END:VCALENDAR