BEGIN:VCALENDAR
VERSION:2.0
PRODID:-//Plone.org//NONSGML plone.app.event//EN
X-WR-TIMEZONE:Europe/Madrid
BEGIN:VEVENT
SUMMARY:Exposició Dia Internacional de les Dones
DTSTART;TZID=Europe/Madrid;VALUE=DATE-TIME:20140401T090000
DTEND;TZID=Europe/Madrid;VALUE=DATE-TIME:20140401T100000
DTSTAMP;VALUE=DATE-TIME:20260420T205018Z
UID:d1b0ac9322bf0a2f5d9c3e1e6678dfa0
CREATED;VALUE=DATE-TIME:20140401T000000Z
CATEGORIES:Exposició
LOCATION:Edifici Xifré - Can Nadal s/n
ORGANIZER:Regidoria d'Igualtat
COMMENT:Durada: Fins al 10 d'abril de 2014
DESCRIPTION:Dones d'Empresa
URL:https://arenysdemar.cat/document.php?id=27738
END:VEVENT
END:VCALENDAR