BEGIN:VCALENDAR
VERSION:2.0
PRODID:-//Plone.org//NONSGML plone.app.event//EN
X-WR-TIMEZONE:Europe/Madrid
BEGIN:VEVENT
SUMMARY:Premis Mossèn Martí Amagat. 33a Mostra Literària d'Arenys de Mar
DTSTART;TZID=Europe/Madrid;VALUE=DATE-TIME:20140518T120000
DTEND;TZID=Europe/Madrid;VALUE=DATE-TIME:20140518T130000
DTSTAMP;VALUE=DATE-TIME:20260424T021031Z
UID:16c2376cfcb29f590bb67c81a72e4f13
CREATED;VALUE=DATE-TIME:20140518T000000Z
CATEGORIES:Literatura,Música
LOCATION:Auditori J.M. Arnau del C.C.Calisay - Riera del Pare Fita, 31
ORGANIZER:Servei Municipal de Català i Regidoria de Cultura
DESCRIPTION:Lliurament de premis. Amb la participació de l'Escola de Música
URL:https://arenysdemar.cat/document.php?id=27745
END:VEVENT
END:VCALENDAR