BEGIN:VCALENDAR
VERSION:2.0
PRODID:-//Plone.org//NONSGML plone.app.event//EN
X-WR-TIMEZONE:Europe/Madrid
BEGIN:VEVENT
SUMMARY:Festa al carrer de la Perera
DTSTART;TZID=Europe/Madrid;VALUE=DATE-TIME:20140808T000000
DTEND;TZID=Europe/Madrid;VALUE=DATE-TIME:20140808T010000
DTSTAMP;VALUE=DATE-TIME:20260419T200727Z
UID:0cee08fc4648b99fb6eb366ee9d32674
CREATED;VALUE=DATE-TIME:20140808T000000Z
CATEGORIES:Festa
LOCATION:al carrer de la Perera
ORGANIZER:Comissió de festes C. de la Perera
COMMENT:Durada: També els dies 9 i 10 d'agost
URL:https://arenysdemar.cat/document.php?id=27760
END:VEVENT
END:VCALENDAR