BEGIN:VCALENDAR
VERSION:2.0
PRODID:-//Plone.org//NONSGML plone.app.event//EN
X-WR-TIMEZONE:Europe/Madrid
BEGIN:VEVENT
SUMMARY:Tertúlia de Lectura Fàcil en català: Ma Àngels Anglada ACTIVITAT SUSPESA
DTSTART;TZID=Europe/Madrid;VALUE=DATE-TIME:20140520T190000
DTEND;TZID=Europe/Madrid;VALUE=DATE-TIME:20140520T200000
DTSTAMP;VALUE=DATE-TIME:20260422T113621Z
UID:cd13a0e3e78fa47d22d5c0ee26ceb25c
CREATED;VALUE=DATE-TIME:20140520T000000Z
CATEGORIES:Literatura
LOCATION:Sala d'Actes de la Biblioteca - C. Bonaire, 2
ORGANIZER:Biblioteca - Regidoria de Cultura, Consorci per la Normalització Lingüística i Servei Municipal de Català
DESCRIPTION:a càrrec de Paquita Zaragoza
URL:https://arenysdemar.cat/document.php?id=27817
END:VEVENT
END:VCALENDAR