BEGIN:VCALENDAR
VERSION:2.0
PRODID:-//Plone.org//NONSGML plone.app.event//EN
X-WR-TIMEZONE:Europe/Madrid
BEGIN:VEVENT
SUMMARY:Conferència-taller: Introducció al fascinant món de les orquídies
DTSTART;TZID=Europe/Madrid;VALUE=DATE-TIME:20140531T120000
DTEND;TZID=Europe/Madrid;VALUE=DATE-TIME:20140531T130000
DTSTAMP;VALUE=DATE-TIME:20260419T153150Z
UID:05e8ad3590f11fa12f58c3b49f307b31
CREATED;VALUE=DATE-TIME:20140531T000000Z
CATEGORIES:Conferència
LOCATION:Sala Noble del C.C.Calisay - Riera Pare Fita, 31
ORGANIZER:Ass.Catalana d'Amics de les Orquídies i Regidoria de Cultura
DESCRIPTION:a càrrec de Pilar Barcelò, jutge internacional de l'EOC
URL:https://arenysdemar.cat/document.php?id=27833
END:VEVENT
END:VCALENDAR