BEGIN:VCALENDAR
VERSION:2.0
PRODID:-//Plone.org//NONSGML plone.app.event//EN
X-WR-TIMEZONE:Europe/Madrid
BEGIN:VEVENT
SUMMARY:Concert de l'Orfeó Català
DTSTART;TZID=Europe/Madrid;VALUE=DATE-TIME:20141018T210000
DTEND;TZID=Europe/Madrid;VALUE=DATE-TIME:20141018T220000
DTSTAMP;VALUE=DATE-TIME:20260423T142319Z
UID:16af2aa846edb94dd146eef0205aaeb0
CREATED;VALUE=DATE-TIME:20141018T000000Z
CATEGORIES:Música
LOCATION:Teatre Principal - C. Església, 45-47
ORGANIZER:Cor l'Aixa
COMMENT:Preu: 15&euro;
DESCRIPTION:amb la participació del Cor l'Aixa
URL:https://arenysdemar.cat/document.php?id=27852
END:VEVENT
END:VCALENDAR