BEGIN:VCALENDAR
VERSION:2.0
PRODID:-//Plone.org//NONSGML plone.app.event//EN
X-WR-TIMEZONE:Europe/Madrid
BEGIN:VEVENT
SUMMARY:Festa al carrer Sant Pere
DTSTART;TZID=Europe/Madrid;VALUE=DATE-TIME:20140628T000000
DTEND;TZID=Europe/Madrid;VALUE=DATE-TIME:20140628T010000
DTSTAMP;VALUE=DATE-TIME:20260424T130851Z
UID:4d97cb291027c7a97631eacbe65c6c31
CREATED;VALUE=DATE-TIME:20140628T000000Z
LOCATION:al carrer Sant Pere
ORGANIZER:Comissió de festes C. Sant Pere
URL:https://arenysdemar.cat/document.php?id=27857
END:VEVENT
END:VCALENDAR