BEGIN:VCALENDAR
VERSION:2.0
PRODID:-//Plone.org//NONSGML plone.app.event//EN
X-WR-TIMEZONE:Europe/Madrid
BEGIN:VEVENT
SUMMARY:Conferència: Catalunya independent, Unió Europea i Euro
DTSTART;TZID=Europe/Madrid;VALUE=DATE-TIME:20140502T193000
DTEND;TZID=Europe/Madrid;VALUE=DATE-TIME:20140502T203000
DTSTAMP;VALUE=DATE-TIME:20260420T153253Z
UID:ed5bbc29e52fcb1461fb29fc84154baa
CREATED;VALUE=DATE-TIME:20140502T000000Z
CATEGORIES:Conferència
LOCATION:Ateneu Arenyenc
ORGANIZER:Ateneu Arenyenc i ANC-Territorial Arenys de Mar
DESCRIPTION:a càrrec de Miquel Rubirola i Torrent
URL:https://arenysdemar.cat/document.php?id=27877
END:VEVENT
END:VCALENDAR