BEGIN:VCALENDAR
VERSION:2.0
PRODID:-//Plone.org//NONSGML plone.app.event//EN
X-WR-TIMEZONE:Europe/Madrid
BEGIN:VEVENT
SUMMARY:Ball dels dissabtes
DTSTART;TZID=Europe/Madrid;VALUE=DATE-TIME:20140510T223000
DTEND;TZID=Europe/Madrid;VALUE=DATE-TIME:20140510T233000
DTSTAMP;VALUE=DATE-TIME:20260423T182949Z
UID:8c4a04e6b6a93e8fe958b51ee8c22f9b
CREATED;VALUE=DATE-TIME:20140510T000000Z
CATEGORIES:Música
LOCATION:Ateneu Arenyenc
ORGANIZER:Ateneu Arenyenc
COMMENT:Preu: Soci 5&euro; i no soci 7&euro;
DESCRIPTION:amb el Duet Choffers
URL:https://arenysdemar.cat/document.php?id=27898
END:VEVENT
END:VCALENDAR