BEGIN:VCALENDAR
VERSION:2.0
PRODID:-//Plone.org//NONSGML plone.app.event//EN
X-WR-TIMEZONE:Europe/Madrid
BEGIN:VEVENT
SUMMARY:Ballada de Country
DTSTART;TZID=Europe/Madrid;VALUE=DATE-TIME:20140706T190000
DTEND;TZID=Europe/Madrid;VALUE=DATE-TIME:20140706T200000
DTSTAMP;VALUE=DATE-TIME:20260421T195057Z
UID:49a91db4cb09507ebfde988762364aa2
CREATED;VALUE=DATE-TIME:20140706T000000Z
CATEGORIES:Dansa
LOCATION:Plaça de l'Església - Plaça de l'Església
ORGANIZER:L'Esplai de la Gent Gran
URL:https://arenysdemar.cat/document.php?id=27901
END:VEVENT
END:VCALENDAR