BEGIN:VCALENDAR
VERSION:2.0
PRODID:-//Plone.org//NONSGML plone.app.event//EN
X-WR-TIMEZONE:Europe/Madrid
BEGIN:VEVENT
SUMMARY:Conferència: La Cuina dels 5 Elements 
DTSTART;TZID=Europe/Madrid;VALUE=DATE-TIME:20140516T170000
DTEND;TZID=Europe/Madrid;VALUE=DATE-TIME:20140516T180000
DTSTAMP;VALUE=DATE-TIME:20260420T170833Z
UID:d0754c0cb6c29f399971bb3f9fd4c631
CREATED;VALUE=DATE-TIME:20140516T000000Z
LOCATION:Esplai/C.C.Calisay - Riera del Pare Fita, 31
ORGANIZER:Esplai de la Gent Gran
DESCRIPTION:a càrrec d'Inez Mackoviad
URL:https://arenysdemar.cat/document.php?id=27902
END:VEVENT
END:VCALENDAR