BEGIN:VCALENDAR
VERSION:2.0
PRODID:-//Plone.org//NONSGML plone.app.event//EN
X-WR-TIMEZONE:Europe/Madrid
BEGIN:VEVENT
SUMMARY:Festa del soci
DTSTART;TZID=Europe/Madrid;VALUE=DATE-TIME:20140527T120000
DTEND;TZID=Europe/Madrid;VALUE=DATE-TIME:20140527T130000
DTSTAMP;VALUE=DATE-TIME:20260420T170849Z
UID:c8b9e48b8353477ec35fb0e81bd5b7d6
CREATED;VALUE=DATE-TIME:20140527T000000Z
CATEGORIES:Festa
LOCATION:Església Parroquial
ORGANIZER:L'Esplai de la Gent Gran
URL:https://arenysdemar.cat/document.php?id=27904
END:VEVENT
END:VCALENDAR