BEGIN:VCALENDAR
VERSION:2.0
PRODID:-//Plone.org//NONSGML plone.app.event//EN
X-WR-TIMEZONE:Europe/Madrid
BEGIN:VEVENT
SUMMARY:Fira d'artesania
DTSTART;TZID=Europe/Madrid;VALUE=DATE-TIME:20140601T100000
DTEND;TZID=Europe/Madrid;VALUE=DATE-TIME:20140601T110000
DTSTAMP;VALUE=DATE-TIME:20260420T162112Z
UID:182ee9a54fd4beeec945122944b5121f
CREATED;VALUE=DATE-TIME:20140601T000000Z
CATEGORIES:Mostra
LOCATION:a la Riera davant l'Ajuntament
ORGANIZER:Associació Col·leccionisme Nou i Vell (Crisàlide)
COMMENT:Durada: fins a les 8 del vespre
URL:https://arenysdemar.cat/document.php?id=27911
END:VEVENT
END:VCALENDAR