BEGIN:VCALENDAR
VERSION:2.0
PRODID:-//Plone.org//NONSGML plone.app.event//EN
X-WR-TIMEZONE:Europe/Madrid
BEGIN:VEVENT
SUMMARY:Demostració d'oficis relacionats amb el dibuix i la pintura
DTSTART;TZID=Europe/Madrid;VALUE=DATE-TIME:20140615T100000
DTEND;TZID=Europe/Madrid;VALUE=DATE-TIME:20140615T110000
DTSTAMP;VALUE=DATE-TIME:20260420T171712Z
UID:18409e0a27c3998743219e90f2a78727
CREATED;VALUE=DATE-TIME:20140615T000000Z
CATEGORIES:Exposició
LOCATION:Plaça de l'Església - Plaça de l'Església
ORGANIZER:Associació Fira de Dibuix i Pintura
COMMENT:Durada: fins a les 22 h
DESCRIPTION:XX Fira de Dibuix i Pintura
URL:https://arenysdemar.cat/document.php?id=27925
END:VEVENT
END:VCALENDAR