BEGIN:VCALENDAR
VERSION:2.0
PRODID:-//Plone.org//NONSGML plone.app.event//EN
X-WR-TIMEZONE:Europe/Madrid
BEGIN:VEVENT
SUMMARY:Jornada de portes obertes Escola Bressol dels Colors
DTSTART;TZID=Europe/Madrid;VALUE=DATE-TIME:20140426T100000
DTEND;TZID=Europe/Madrid;VALUE=DATE-TIME:20140426T110000
DTSTAMP;VALUE=DATE-TIME:20260423T232834Z
UID:7d8df2d1b26aa358d1152ad683160c06
CREATED;VALUE=DATE-TIME:20140426T000000Z
LOCATION:Avinguda Pau Costa, 77
ORGANIZER:Regidoria d'Educació
URL:https://arenysdemar.cat/document.php?id=27951
END:VEVENT
END:VCALENDAR